BEGIN:VCALENDAR
VERSION:2.0
PRODID:-//Plone.org//NONSGML plone.app.event//EN
X-WR-TIMEZONE:Europe/Rome
BEGIN:VEVENT
SUMMARY:Dalla sperimentazione di progetto alla gestione di servizi ai citt
 adini basati sui dati aperti
DTSTART;TZID=Europe/Rome;VALUE=DATE-TIME:20161125T090000
DTEND;TZID=Europe/Rome;VALUE=DATE-TIME:20161125T170000
DTSTAMP;VALUE=DATE-TIME:20260424T153709Z
UID:ffe3d6d971f64200889a696817bf18a9
CONTACT:Barbara Curcio Rubertini\, b.curciorubertini@ospfe.it
CREATED;VALUE=DATE-TIME:20161019T184300Z
DESCRIPTION: Primo Seminario di Studio di Ferrara Open Sanità
LAST-MODIFIED;VALUE=DATE-TIME:20161019T184700Z
LOCATION:Cona (Ferrara)\,  Azienda Ospedaliero-Universitaria di  Ferrara
URL:https://www.ferrarasalute.it/relazioni-pubbliche/events/dalla-sperimen
 tazione-di-progetto-alla-gestione-di-servizi-ai-cittadini-basati-sui-dati-
 aperti
END:VEVENT
BEGIN:VTIMEZONE
TZID:Europe/Rome
X-LIC-LOCATION:Europe/Rome
BEGIN:STANDARD
DTSTART;VALUE=DATE-TIME:20161030T020000
TZNAME:CET
TZOFFSETFROM:+0200
TZOFFSETTO:+0100
END:STANDARD
END:VTIMEZONE
END:VCALENDAR
